Package: GA4GHclient Version: 1.33.1 Command: rm -rf GA4GHclient.buildbin-libdir && mkdir GA4GHclient.buildbin-libdir && F:\biocbuild\bbs-3.22-bioc\R\bin\R.exe CMD INSTALL --build --library=GA4GHclient.buildbin-libdir GA4GHclient_1.33.1.tar.gz StartedAt: 2025-08-15 10:18:20 -0400 (Fri, 15 Aug 2025) EndedAt: 2025-08-15 10:19:32 -0400 (Fri, 15 Aug 2025) EllapsedTime: 72.5 seconds RetCode: 0 Status: OK PackageFile: GA4GHclient_1.33.1.zip PackageFileSize: 762.6 KiB