Package: GA4GHclient Version: 1.35.0 Command: /home/biocbuild/bbs-3.23-bioc/R/bin/R CMD INSTALL GA4GHclient StartedAt: 2025-11-05 15:52:04 -0500 (Wed, 05 Nov 2025) EndedAt: 2025-11-05 15:52:41 -0500 (Wed, 05 Nov 2025) EllapsedTime: 37.3 seconds RetCode: 0 Status: OK