Package: GA4GHclient Version: 1.35.0 Command: /home/biocbuild/bbs-3.23-bioc/R/bin/R CMD build --keep-empty-dirs --no-resave-data GA4GHclient StartedAt: 2025-11-04 17:36:57 -0500 (Tue, 04 Nov 2025) EndedAt: 2025-11-04 17:38:18 -0500 (Tue, 04 Nov 2025) EllapsedTime: 81.1 seconds RetCode: 0 Status: OK PackageFile: GA4GHclient_1.35.0.tar.gz PackageFileSize: 637.7 KiB