Package: G4SNVHunter Version: 1.1.6 Command: /home/biocbuild/R/R/bin/R CMD INSTALL G4SNVHunter StartedAt: 2025-10-09 21:43:40 -0000 (Thu, 09 Oct 2025) EndedAt: 2025-10-09 21:44:40 -0000 (Thu, 09 Oct 2025) EllapsedTime: 59.2 seconds RetCode: 0 Status: OK