Package: G4SNVHunter Version: 1.1.6 Command: /home/biocbuild/R/R/bin/R CMD build --keep-empty-dirs --no-resave-data G4SNVHunter StartedAt: 2025-10-10 00:38:34 -0000 (Fri, 10 Oct 2025) EndedAt: 2025-10-10 00:39:38 -0000 (Fri, 10 Oct 2025) EllapsedTime: 64.0 seconds RetCode: 0 Status: OK PackageFile: G4SNVHunter_1.1.6.tar.gz PackageFileSize: 990.8 KiB