Package: G4SNVHunter Version: 1.3.0 Command: /home/biocbuild/bbs-3.23-bioc/R/bin/R CMD check --install=check:G4SNVHunter.install-out.txt --library=/home/biocbuild/bbs-3.23-bioc/R/site-library --timings G4SNVHunter_1.3.0.tar.gz StartedAt: 2025-11-23 23:38:44 -0500 (Sun, 23 Nov 2025) EndedAt: 2025-11-23 23:57:26 -0500 (Sun, 23 Nov 2025) EllapsedTime: 1122.5 seconds RetCode: 0 Status: WARNINGS CheckDir: G4SNVHunter.Rcheck Warnings: 1