Package: G4SNVHunter Version: 1.3.0 Command: /home/biocbuild/bbs-3.23-bioc/R/bin/R CMD build --keep-empty-dirs --no-resave-data G4SNVHunter StartedAt: 2025-11-04 17:36:44 -0500 (Tue, 04 Nov 2025) EndedAt: 2025-11-04 17:37:32 -0500 (Tue, 04 Nov 2025) EllapsedTime: 48.1 seconds RetCode: 0 Status: OK PackageFile: G4SNVHunter_1.3.0.tar.gz PackageFileSize: 963.7 KiB