Package: G4SNVHunter Version: 1.1.6 Command: /Library/Frameworks/R.framework/Resources/bin/R CMD INSTALL G4SNVHunter StartedAt: 2025-09-28 15:35:45 -0400 (Sun, 28 Sep 2025) EndedAt: 2025-09-28 15:36:51 -0400 (Sun, 28 Sep 2025) EllapsedTime: 65.8 seconds RetCode: 0 Status: OK