Package: G4SNVHunter Version: 1.1.6 Command: /Library/Frameworks/R.framework/Resources/bin/R CMD INSTALL G4SNVHunter StartedAt: 2025-10-12 15:20:34 -0400 (Sun, 12 Oct 2025) EndedAt: 2025-10-12 15:20:54 -0400 (Sun, 12 Oct 2025) EllapsedTime: 19.1 seconds RetCode: 0 Status: OK