Package: G4SNVHunter Version: 1.1.6 Maintainer: Rongxin Zhang MaintainerEmail: rongxinzhang at outlook.com git_url: https://git.bioconductor.org/packages/G4SNVHunter git_branch: devel git_last_commit: 7baff98 git_last_commit_date: 2025-07-28 14:42:29 -0400 (Mon, 28 Jul 2025)