Package: FuseSOM Version: 1.11.0 Command: /home/biocbuild/R/R/bin/R CMD INSTALL FuseSOM StartedAt: 2025-10-02 20:38:12 -0000 (Thu, 02 Oct 2025) EndedAt: 2025-10-02 20:38:48 -0000 (Thu, 02 Oct 2025) EllapsedTime: 36.1 seconds RetCode: 0 Status: OK