Package: FuseSOM Version: 1.11.0 Command: /home/biocbuild/R/R/bin/R CMD build --keep-empty-dirs --no-resave-data FuseSOM StartedAt: 2025-10-03 00:03:07 -0000 (Fri, 03 Oct 2025) EndedAt: 2025-10-03 00:04:41 -0000 (Fri, 03 Oct 2025) EllapsedTime: 94.0 seconds RetCode: 0 Status: OK PackageFile: FuseSOM_1.11.0.tar.gz PackageFileSize: 2.042 MiB