Package: FuseSOM Version: 1.13.0 Command: /home/biocbuild/bbs-3.23-bioc/R/bin/R CMD INSTALL FuseSOM StartedAt: 2025-11-20 15:17:00 -0500 (Thu, 20 Nov 2025) EndedAt: 2025-11-20 15:17:27 -0500 (Thu, 20 Nov 2025) EllapsedTime: 27.1 seconds RetCode: 0 Status: OK