Package: FuseSOM Version: 1.13.0 Command: /home/biocbuild/bbs-3.23-bioc/R/bin/R CMD check --install=check:FuseSOM.install-out.txt --library=/home/biocbuild/bbs-3.23-bioc/R/site-library --timings FuseSOM_1.13.0.tar.gz StartedAt: 2025-11-20 23:42:43 -0500 (Thu, 20 Nov 2025) EndedAt: 2025-11-20 23:46:29 -0500 (Thu, 20 Nov 2025) EllapsedTime: 226.3 seconds RetCode: 0 Status: OK CheckDir: FuseSOM.Rcheck Warnings: 0