Package: FuseSOM Version: 1.13.0 Command: /home/biocbuild/bbs-3.23-bioc/R/bin/R CMD build --keep-empty-dirs --no-resave-data FuseSOM StartedAt: 2025-11-20 17:41:26 -0500 (Thu, 20 Nov 2025) EndedAt: 2025-11-20 17:42:27 -0500 (Thu, 20 Nov 2025) EllapsedTime: 61.1 seconds RetCode: 0 Status: OK PackageFile: FuseSOM_1.13.0.tar.gz PackageFileSize: 2.645 MiB