Package: FlowSOM Version: 2.19.0 Command: /home/biocbuild/bbs-3.23-bioc/R/bin/R CMD INSTALL FlowSOM StartedAt: 2025-11-07 15:13:54 -0500 (Fri, 07 Nov 2025) EndedAt: 2025-11-07 15:14:10 -0500 (Fri, 07 Nov 2025) EllapsedTime: 15.4 seconds RetCode: 0 Status: OK