Package: FlowSOM Version: 2.19.0 Command: /home/biocbuild/bbs-3.23-bioc/R/bin/R CMD build --keep-empty-dirs --no-resave-data FlowSOM StartedAt: 2025-11-09 17:35:31 -0500 (Sun, 09 Nov 2025) EndedAt: 2025-11-09 17:37:15 -0500 (Sun, 09 Nov 2025) EllapsedTime: 103.1 seconds RetCode: 0 Status: OK PackageFile: FlowSOM_2.19.0.tar.gz PackageFileSize: 4.9 MiB