Package: FlowSOM Version: 2.17.0 Command: /Library/Frameworks/R.framework/Resources/bin/R CMD INSTALL FlowSOM StartedAt: 2025-10-17 15:07:23 -0400 (Fri, 17 Oct 2025) EndedAt: 2025-10-17 15:07:28 -0400 (Fri, 17 Oct 2025) EllapsedTime: 5.2 seconds RetCode: 0 Status: OK