Package: FitHiC Version: 1.35.0 Command: /home/biocbuild/bbs-3.22-bioc/R/bin/R CMD check --install=check:FitHiC.install-out.txt --library=/home/biocbuild/bbs-3.22-bioc/R/site-library --timings FitHiC_1.35.0.tar.gz StartedAt: 2025-09-28 23:57:37 -0400 (Sun, 28 Sep 2025) EndedAt: 2025-09-29 00:01:30 -0400 (Mon, 29 Sep 2025) EllapsedTime: 232.3 seconds RetCode: 0 Status: OK CheckDir: FitHiC.Rcheck Warnings: 0