Package: FitHiC Version: 1.37.0 Command: /home/biocbuild/bbs-3.23-bioc/R/bin/R CMD INSTALL FitHiC StartedAt: 2025-10-31 15:10:31 -0400 (Fri, 31 Oct 2025) EndedAt: 2025-10-31 15:10:44 -0400 (Fri, 31 Oct 2025) EllapsedTime: 13.2 seconds RetCode: 0 Status: OK