Package: FitHiC Version: 1.35.0 Command: /Library/Frameworks/R.framework/Resources/bin/R CMD check --install=check:FitHiC.install-out.txt --library=/Library/Frameworks/R.framework/Resources/library --no-vignettes --timings FitHiC_1.35.0.tar.gz StartedAt: 2025-10-27 19:44:46 -0400 (Mon, 27 Oct 2025) EndedAt: 2025-10-27 19:45:42 -0400 (Mon, 27 Oct 2025) EllapsedTime: 56.7 seconds RetCode: 0 Status: OK CheckDir: FitHiC.Rcheck Warnings: 0