Package: FinfoMDS Version: 1.1.0 Command: /home/biocbuild/bbs-3.23-bioc/R/bin/R CMD INSTALL FinfoMDS StartedAt: 2025-11-20 15:33:19 -0500 (Thu, 20 Nov 2025) EndedAt: 2025-11-20 15:33:38 -0500 (Thu, 20 Nov 2025) EllapsedTime: 19.4 seconds RetCode: 0 Status: OK