Package: FinfoMDS Version: 0.99.2 Command: /Library/Frameworks/R.framework/Resources/bin/R CMD INSTALL FinfoMDS StartedAt: 2025-10-03 15:31:22 -0400 (Fri, 03 Oct 2025) EndedAt: 2025-10-03 15:31:49 -0400 (Fri, 03 Oct 2025) EllapsedTime: 26.7 seconds RetCode: 0 Status: OK