Package: FinfoMDS Version: 0.99.2 Command: /Library/Frameworks/R.framework/Resources/bin/R CMD build --keep-empty-dirs --no-resave-data FinfoMDS StartedAt: 2025-10-03 17:01:57 -0400 (Fri, 03 Oct 2025) EndedAt: 2025-10-03 17:02:55 -0400 (Fri, 03 Oct 2025) EllapsedTime: 58.2 seconds RetCode: 0 Status: OK PackageFile: FinfoMDS_0.99.2.tar.gz PackageFileSize: 341.3 KiB