Package: FinfoMDS Version: 0.99.2 Command: rm -rf FinfoMDS.buildbin-libdir && mkdir FinfoMDS.buildbin-libdir && /Users/biocbuild/BBS/utils/build-universal.sh FinfoMDS_0.99.2.tar.gz /Library/Frameworks/R.framework/Resources/bin/R FinfoMDS.buildbin-libdir StartedAt: 2025-10-04 02:05:26 -0400 (Sat, 04 Oct 2025) EndedAt: 2025-10-04 02:05:55 -0400 (Sat, 04 Oct 2025) EllapsedTime: 29.2 seconds RetCode: 0 Status: OK PackageFile: FinfoMDS_0.99.2.tgz PackageFileSize: 324.4 KiB