Package: FinfoMDS Version: 0.99.2 Maintainer: Soobin Kim MaintainerEmail: soob.kim00 at gmail.com git_url: https://git.bioconductor.org/packages/FinfoMDS git_branch: devel git_last_commit: 3d1a6fe git_last_commit_date: 2025-09-04 22:58:39 -0400 (Thu, 04 Sep 2025)