Package: FindIT2 Version: 1.15.1 Command: /Library/Frameworks/R.framework/Resources/bin/R CMD build --keep-empty-dirs --no-resave-data FindIT2 StartedAt: 2025-10-12 17:07:51 -0400 (Sun, 12 Oct 2025) EndedAt: 2025-10-12 17:09:46 -0400 (Sun, 12 Oct 2025) EllapsedTime: 115.7 seconds RetCode: 0 Status: OK PackageFile: FindIT2_1.15.1.tar.gz PackageFileSize: 2.32 MiB