Package: FindIT2 Version: 1.15.1 Command: rm -rf FindIT2.buildbin-libdir && mkdir FindIT2.buildbin-libdir && /Users/biocbuild/BBS/utils/build-universal.sh FindIT2_1.15.1.tar.gz /Library/Frameworks/R.framework/Resources/bin/R FindIT2.buildbin-libdir StartedAt: 2025-10-14 02:44:10 -0400 (Tue, 14 Oct 2025) EndedAt: 2025-10-14 02:45:05 -0400 (Tue, 14 Oct 2025) EllapsedTime: 54.8 seconds RetCode: 0 Status: OK PackageFile: FindIT2_1.15.1.tgz PackageFileSize: 2.438 MiB