Package: FindIT2 Version: 1.15.1 Maintainer: Guandong Shang MaintainerEmail: shangguandong1996 at 163.com git_url: https://git.bioconductor.org/packages/FindIT2 git_branch: devel git_last_commit: 82d0b10 git_last_commit_date: 2025-07-22 19:49:08 -0400 (Tue, 22 Jul 2025)