Package: FeatSeekR Version: 1.9.0 Command: /Library/Frameworks/R.framework/Resources/bin/R CMD INSTALL FeatSeekR StartedAt: 2025-10-23 15:27:51 -0400 (Thu, 23 Oct 2025) EndedAt: 2025-10-23 15:28:19 -0400 (Thu, 23 Oct 2025) EllapsedTime: 28.1 seconds RetCode: 0 Status: OK