Package: FeatSeekR Version: 1.9.0 Command: /Library/Frameworks/R.framework/Resources/bin/R CMD build --keep-empty-dirs --no-resave-data FeatSeekR StartedAt: 2025-10-23 16:57:30 -0400 (Thu, 23 Oct 2025) EndedAt: 2025-10-23 16:58:27 -0400 (Thu, 23 Oct 2025) EllapsedTime: 57.3 seconds RetCode: 0 Status: OK PackageFile: FeatSeekR_1.9.0.tar.gz PackageFileSize: 361.8 KiB