Package: FeatSeekR Version: 1.9.0 Command: /Library/Frameworks/R.framework/Resources/bin/R CMD build --keep-empty-dirs --no-resave-data FeatSeekR StartedAt: 2025-10-03 16:23:09 -0400 (Fri, 03 Oct 2025) EndedAt: 2025-10-03 16:23:22 -0400 (Fri, 03 Oct 2025) EllapsedTime: 13.2 seconds RetCode: 0 Status: OK PackageFile: FeatSeekR_1.9.0.tar.gz PackageFileSize: 361.7 KiB