Package: FeatSeekR Version: 1.9.0 Command: rm -rf FeatSeekR.buildbin-libdir && mkdir FeatSeekR.buildbin-libdir && /Users/biocbuild/BBS/utils/build-universal.sh FeatSeekR_1.9.0.tar.gz /Library/Frameworks/R.framework/Resources/bin/R FeatSeekR.buildbin-libdir StartedAt: 2025-10-03 22:39:11 -0400 (Fri, 03 Oct 2025) EndedAt: 2025-10-03 22:39:20 -0400 (Fri, 03 Oct 2025) EllapsedTime: 9.2 seconds RetCode: 0 Status: OK PackageFile: FeatSeekR_1.9.0.tgz PackageFileSize: 392.1 KiB