Package: FastqCleaner Version: 1.27.0 Command: /home/biocbuild/R/R/bin/R CMD INSTALL FastqCleaner StartedAt: 2025-10-09 22:00:24 -0000 (Thu, 09 Oct 2025) EndedAt: 2025-10-09 22:01:27 -0000 (Thu, 09 Oct 2025) EllapsedTime: 62.7 seconds RetCode: 0 Status: OK