Package: FastqCleaner Version: 1.27.0 Command: F:\biocbuild\bbs-3.22-bioc\R\bin\R.exe CMD INSTALL FastqCleaner StartedAt: 2025-08-14 16:49:10 -0400 (Thu, 14 Aug 2025) EndedAt: 2025-08-14 16:50:49 -0400 (Thu, 14 Aug 2025) EllapsedTime: 99.4 seconds RetCode: 0 Status: OK