Package: FastqCleaner Version: 1.27.0 Command: chmod a+r FastqCleaner -R && F:\biocbuild\bbs-3.22-bioc\R\bin\R.exe CMD build --keep-empty-dirs --no-resave-data FastqCleaner StartedAt: 2025-08-14 20:07:34 -0400 (Thu, 14 Aug 2025) EndedAt: 2025-08-14 20:09:22 -0400 (Thu, 14 Aug 2025) EllapsedTime: 107.1 seconds RetCode: 0 Status: OK PackageFile: FastqCleaner_1.27.0.tar.gz PackageFileSize: 4.183 MiB