Package: FastqCleaner Version: 1.27.0 Command: rm -rf FastqCleaner.buildbin-libdir && mkdir FastqCleaner.buildbin-libdir && F:\biocbuild\bbs-3.22-bioc\R\bin\R.exe CMD INSTALL --build --library=FastqCleaner.buildbin-libdir FastqCleaner_1.27.0.tar.gz StartedAt: 2025-08-15 10:15:49 -0400 (Fri, 15 Aug 2025) EndedAt: 2025-08-15 10:17:27 -0400 (Fri, 15 Aug 2025) EllapsedTime: 97.3 seconds RetCode: 0 Status: OK PackageFile: FastqCleaner_1.27.0.zip PackageFileSize: 4.016 MiB