Package: FastqCleaner Version: 1.29.0 Command: /home/biocbuild/bbs-3.23-bioc/R/bin/R CMD INSTALL FastqCleaner StartedAt: 2025-11-04 15:49:35 -0500 (Tue, 04 Nov 2025) EndedAt: 2025-11-04 15:50:22 -0500 (Tue, 04 Nov 2025) EllapsedTime: 47.5 seconds RetCode: 0 Status: OK