Package: FamAgg Version: 1.37.0 Command: /Library/Frameworks/R.framework/Resources/bin/R CMD INSTALL FamAgg StartedAt: 2025-10-10 15:19:18 -0400 (Fri, 10 Oct 2025) EndedAt: 2025-10-10 15:19:32 -0400 (Fri, 10 Oct 2025) EllapsedTime: 14.5 seconds RetCode: 0 Status: OK