Package: FamAgg Version: 1.37.0 Command: /Library/Frameworks/R.framework/Resources/bin/R CMD build --keep-empty-dirs --no-resave-data FamAgg StartedAt: 2025-10-10 17:09:30 -0400 (Fri, 10 Oct 2025) EndedAt: 2025-10-10 17:11:06 -0400 (Fri, 10 Oct 2025) EllapsedTime: 96.8 seconds RetCode: 0 Status: OK PackageFile: FamAgg_1.37.0.tar.gz PackageFileSize: 1.65 MiB