Package: FamAgg Version: 1.37.0 Command: rm -rf FamAgg.buildbin-libdir && mkdir FamAgg.buildbin-libdir && /Users/biocbuild/BBS/utils/build-universal.sh FamAgg_1.37.0.tar.gz /Library/Frameworks/R.framework/Resources/bin/R FamAgg.buildbin-libdir StartedAt: 2025-10-11 02:29:27 -0400 (Sat, 11 Oct 2025) EndedAt: 2025-10-11 02:29:49 -0400 (Sat, 11 Oct 2025) EllapsedTime: 22.0 seconds RetCode: 0 Status: OK PackageFile: FamAgg_1.37.0.tgz PackageFileSize: 2.148 MiB