Package: FamAgg Version: 1.37.0 Command: rm -rf FamAgg.buildbin-libdir && mkdir FamAgg.buildbin-libdir && /Users/biocbuild/BBS/utils/build-universal.sh FamAgg_1.37.0.tar.gz /Library/Frameworks/R.framework/Resources/bin/R FamAgg.buildbin-libdir StartedAt: 2025-09-29 22:35:20 -0400 (Mon, 29 Sep 2025) EndedAt: 2025-09-29 22:35:25 -0400 (Mon, 29 Sep 2025) EllapsedTime: 5.1 seconds RetCode: 0 Status: OK PackageFile: FamAgg_1.37.0.tgz PackageFileSize: 2.146 MiB