Package: FRASER Version: 2.7.0 Command: /home/biocbuild/bbs-3.23-bioc/R/bin/R CMD INSTALL FRASER StartedAt: 2025-11-14 15:45:34 -0500 (Fri, 14 Nov 2025) EndedAt: 2025-11-14 15:46:10 -0500 (Fri, 14 Nov 2025) EllapsedTime: 35.5 seconds RetCode: 1 Status: ERROR