Package: FRASER Version: 2.7.0 Command: /home/biocbuild/bbs-3.23-bioc/R/bin/R CMD build --keep-empty-dirs --no-resave-data FRASER StartedAt: 2025-11-16 17:41:06 -0500 (Sun, 16 Nov 2025) EndedAt: 2025-11-16 17:41:43 -0500 (Sun, 16 Nov 2025) EllapsedTime: 37.0 seconds RetCode: 1 Status: ERROR PackageFile: None PackageFileSize: NA