Package: FRASER Version: 2.5.5 Command: /Library/Frameworks/R.framework/Resources/bin/R CMD build --keep-empty-dirs --no-resave-data FRASER StartedAt: 2025-10-24 16:28:26 -0400 (Fri, 24 Oct 2025) EndedAt: 2025-10-24 16:29:12 -0400 (Fri, 24 Oct 2025) EllapsedTime: 45.5 seconds RetCode: 1 Status: ERROR PackageFile: None PackageFileSize: NA