Package: FRASER Version: 2.5.2 Command: rm -rf FRASER.buildbin-libdir && mkdir FRASER.buildbin-libdir && /Users/biocbuild/BBS/utils/build-universal.sh FRASER_2.5.2.tar.gz /Library/Frameworks/R.framework/Resources/bin/R FRASER.buildbin-libdir StartedAt: 2025-10-23 23:10:03 -0400 (Thu, 23 Oct 2025) EndedAt: 2025-10-23 23:10:42 -0400 (Thu, 23 Oct 2025) EllapsedTime: 39.7 seconds RetCode: 0 Status: OK PackageFile: FRASER_2.5.2.tgz PackageFileSize: 3.425 MiB