Package: FLAMES Version: 2.5.1 Command: /home/biocbuild/bbs-3.23-bioc/R/bin/R CMD INSTALL FLAMES StartedAt: 2025-11-20 15:54:03 -0500 (Thu, 20 Nov 2025) EndedAt: 2025-11-20 15:55:59 -0500 (Thu, 20 Nov 2025) EllapsedTime: 116.3 seconds RetCode: 0 Status: OK