Package: FLAMES Version: 2.5.1 Command: /Library/Frameworks/R.framework/Resources/bin/R CMD INSTALL FLAMES StartedAt: 2025-11-20 15:50:14 -0500 (Thu, 20 Nov 2025) EndedAt: 2025-11-20 15:52:44 -0500 (Thu, 20 Nov 2025) EllapsedTime: 150.3 seconds RetCode: 0 Status: OK