Package: FLAMES Version: 2.5.1 Command: /Library/Frameworks/R.framework/Resources/bin/R CMD build --keep-empty-dirs --no-resave-data FLAMES StartedAt: 2025-11-20 17:01:27 -0500 (Thu, 20 Nov 2025) EndedAt: 2025-11-20 17:03:48 -0500 (Thu, 20 Nov 2025) EllapsedTime: 140.8 seconds RetCode: 0 Status: OK PackageFile: FLAMES_2.5.1.tar.gz PackageFileSize: 4.11 MiB