Package: FLAMES Version: 2.5.1 Command: rm -rf FLAMES.buildbin-libdir && mkdir FLAMES.buildbin-libdir && /Users/biocbuild/BBS/utils/build-universal.sh FLAMES_2.5.1.tar.gz /Library/Frameworks/R.framework/Resources/bin/R FLAMES.buildbin-libdir StartedAt: 2025-11-21 01:33:55 -0500 (Fri, 21 Nov 2025) EndedAt: 2025-11-21 01:36:44 -0500 (Fri, 21 Nov 2025) EllapsedTime: 168.6 seconds RetCode: 0 Status: OK PackageFile: FLAMES_2.5.1.tgz PackageFileSize: 4.842 MiB